BEGIN:VCALENDAR
VERSION:2.0
PRODID:-//Vasse Art Award - ECPv5.4.0//NONSGML v1.0//EN
CALSCALE:GREGORIAN
METHOD:PUBLISH
X-WR-CALNAME:Vasse Art Award
X-ORIGINAL-URL:https://vasseartaward.org.au
X-WR-CALDESC:Events for Vasse Art Award
BEGIN:VTIMEZONE
TZID:Australia/Perth
BEGIN:STANDARD
TZOFFSETFROM:+0800
TZOFFSETTO:+0800
TZNAME:AWST
DTSTART:20210101T000000
END:STANDARD
END:VTIMEZONE
BEGIN:VEVENT
DTSTART;TZID=Australia/Perth:20210327T100000
DTEND;TZID=Australia/Perth:20210327T150000
DTSTAMP:20210226T033049
CREATED:20210114T131107Z
LAST-MODIFIED:20210114T155511Z
UID:3245-1616839200-1616857200@vasseartaward.org.au
SUMMARY:ART IN
DESCRIPTION:Artworks to be delivered to The Hive at Vasse Primary School. \nPlease refer back to our Terms and Conditions to confirm that your artwork meets all criteria aforementioned. \nOn arrival\, a VAA committee member will ask you to sign in your artwork/s. Please review Artist contact details and Artwork label as correct. The Artwork and label will then be photographed for curating and marketing purposes.
URL:https://vasseartaward.org.au/calendar/art-in-5/
LOCATION:Vasse Primary School\, 17 Kaloorup Road\, Vasse\, Western Australia\, 6280\, Australia
CATEGORIES:Art In
ATTACH;FMTTYPE=image/jpeg:https://vasseartaward.org.au/wp-content/uploads/2021/01/2018-Art-In-DSC_7613.jpg
END:VEVENT
END:VCALENDAR