BEGIN:VCALENDAR
VERSION:2.0
PRODID:-//Vasse Art Award - ECPv5.4.0//NONSGML v1.0//EN
CALSCALE:GREGORIAN
METHOD:PUBLISH
X-WR-CALNAME:Vasse Art Award
X-ORIGINAL-URL:https://vasseartaward.org.au
X-WR-CALDESC:Events for Vasse Art Award
BEGIN:VTIMEZONE
TZID:Australia/Perth
BEGIN:STANDARD
TZOFFSETFROM:+0800
TZOFFSETTO:+0800
TZNAME:AWST
DTSTART:20210101T000000
END:STANDARD
END:VTIMEZONE
BEGIN:VEVENT
DTSTART;TZID=Australia/Perth:20210301T000000
DTEND;TZID=Australia/Perth:20210301T160000
DTSTAMP:20210226T033022
CREATED:20210114T093329Z
LAST-MODIFIED:20210114T150121Z
UID:3232-1614556800-1614614400@vasseartaward.org.au
SUMMARY:Artist Online Entries Closes today 4pm
DESCRIPTION:*Unless we have met the quota of artwork entries earlier.
URL:https://vasseartaward.org.au/calendar/entries-close-4pm/
CATEGORIES:Entry
ATTACH;FMTTYPE=image/jpeg:https://vasseartaward.org.au/wp-content/uploads/2021/01/2018-Art-In-DSC_7558.jpg
END:VEVENT
END:VCALENDAR