BEGIN:VCALENDAR
VERSION:2.0
PRODID:-//Vasse Art Award - ECPv5.0.2//NONSGML v1.0//EN
CALSCALE:GREGORIAN
METHOD:PUBLISH
X-WR-CALNAME:Vasse Art Award
X-ORIGINAL-URL:https://vasseartaward.org.au
X-WR-CALDESC:Events for Vasse Art Award
BEGIN:VTIMEZONE
TZID:Australia/Perth
BEGIN:STANDARD
TZOFFSETFROM:+0800
TZOFFSETTO:+0800
TZNAME:AWST
DTSTART:20200101T000000
END:STANDARD
END:VTIMEZONE
BEGIN:VEVENT
DTSTART;TZID=Australia/Perth:20200417T100000
DTEND;TZID=Australia/Perth:20200417T150000
DTSTAMP:20200227T112224
CREATED:20191130T145719Z
LAST-MODIFIED:20191130T145719Z
UID:2922-1587117600-1587135600@vasseartaward.org.au
SUMMARY:Exhibition Open to the Public
DESCRIPTION:
URL:https://vasseartaward.org.au/calendar/exhibition-open-to-the-public-7/
CATEGORIES:Art Exhibition
END:VEVENT
END:VCALENDAR