BEGIN:VCALENDAR
VERSION:2.0
PRODID:-//Vasse Art Award - ECPv5.0.2//NONSGML v1.0//EN
CALSCALE:GREGORIAN
METHOD:PUBLISH
X-WR-CALNAME:Vasse Art Award
X-ORIGINAL-URL:https://vasseartaward.org.au
X-WR-CALDESC:Events for Vasse Art Award
BEGIN:VTIMEZONE
TZID:Australia/Perth
BEGIN:STANDARD
TZOFFSETFROM:+0800
TZOFFSETTO:+0800
TZNAME:AWST
DTSTART:20200101T000000
END:STANDARD
END:VTIMEZONE
BEGIN:VEVENT
DTSTART;VALUE=DATE:20200309
DTEND;VALUE=DATE:20200310
DTSTAMP:20200227T111643
CREATED:20191130T144146Z
LAST-MODIFIED:20191130T144207Z
UID:2903-1583712000-1583798399@vasseartaward.org.au
SUMMARY:Online Entries Close
DESCRIPTION:This is the last day to enter the Vasse Art Award 2020 – unless closed prior to this date due to reaching the maximum number of artworks we can display. \n
URL:https://vasseartaward.org.au/calendar/online-entries-close/
CATEGORIES:Entry
END:VEVENT
END:VCALENDAR