BEGIN:VCALENDAR
VERSION:2.0
PRODID:-//Vasse Art Award - ECPv5.0.2//NONSGML v1.0//EN
CALSCALE:GREGORIAN
METHOD:PUBLISH
X-WR-CALNAME:Vasse Art Award
X-ORIGINAL-URL:https://vasseartaward.org.au
X-WR-CALDESC:Events for Vasse Art Award
BEGIN:VTIMEZONE
TZID:Australia/Perth
BEGIN:STANDARD
TZOFFSETFROM:+0800
TZOFFSETTO:+0800
TZNAME:AWST
DTSTART:20200101T000000
END:STANDARD
END:VTIMEZONE
BEGIN:VEVENT
DTSTART;TZID=Australia/Perth:20200405T100000
DTEND;TZID=Australia/Perth:20200405T150000
DTSTAMP:20200227T111539
CREATED:20191130T145014Z
LAST-MODIFIED:20191130T145014Z
UID:2908-1586080800-1586098800@vasseartaward.org.au
SUMMARY:Art In
DESCRIPTION:Artworks to be delivered to Vasse Primary School today. \nPlease refer back to our Terms and Conditions to confirm that your artwork meets all criteria aforementioned. \nOn arrival\, your piece will be photographed for the online visual catalogue. \n
URL:https://vasseartaward.org.au/calendar/art-in-4/
CATEGORIES:Art In
END:VEVENT
END:VCALENDAR