BEGIN:VCALENDAR
VERSION:2.0
PRODID:-//Vasse Art Award - ECPv5.4.0//NONSGML v1.0//EN
CALSCALE:GREGORIAN
METHOD:PUBLISH
X-WR-CALNAME:Vasse Art Award
X-ORIGINAL-URL:https://vasseartaward.org.au
X-WR-CALDESC:Events for Vasse Art Award
BEGIN:VTIMEZONE
TZID:Australia/Perth
BEGIN:STANDARD
TZOFFSETFROM:+0800
TZOFFSETTO:+0800
TZNAME:AWST
DTSTART:20210101T000000
END:STANDARD
END:VTIMEZONE
BEGIN:VEVENT
DTSTART;VALUE=DATE:20210101
DTEND;VALUE=DATE:20210102
DTSTAMP:20210226T032659
CREATED:20210114T093222Z
LAST-MODIFIED:20210114T142624Z
UID:3230-1609459200-1609545599@vasseartaward.org.au
SUMMARY:Artist Online Entries Open Now
DESCRIPTION:Due to Covid\, we reopened Artist Online Entries on 1st June 2020. Many artists rolled their 2020 entries into 2021 Vasse Art Award. Hurry – space is limited. Artist Entries closes 4pm on *1st March 2021  (*or prior if we reach our exhibition quota). \nPlease click the link to see how to enter the 2021 Vasse Art Award using our Online Entry Form\nhttps://vasseartaward.org.au/artists/how-to-enter/ \n  \n 
URL:https://vasseartaward.org.au/calendar/vaa21-artist-entries-open/
CATEGORIES:Entry
ATTACH;FMTTYPE=image/jpeg:https://vasseartaward.org.au/wp-content/uploads/2021/01/2021-How-to-Enter-screen-shot.jpg
END:VEVENT
END:VCALENDAR