BEGIN:VCALENDAR
VERSION:2.0
PRODID:-//Vasse Art Award - ECPv5.4.0//NONSGML v1.0//EN
CALSCALE:GREGORIAN
METHOD:PUBLISH
X-WR-CALNAME:Vasse Art Award
X-ORIGINAL-URL:https://vasseartaward.org.au
X-WR-CALDESC:Events for Vasse Art Award
BEGIN:VTIMEZONE
TZID:Australia/Perth
BEGIN:STANDARD
TZOFFSETFROM:+0800
TZOFFSETTO:+0800
TZNAME:AWST
DTSTART:20210101T000000
END:STANDARD
END:VTIMEZONE
BEGIN:VEVENT
DTSTART;VALUE=DATE:20210402
DTEND;VALUE=DATE:20210403
DTSTAMP:20210226T032810
CREATED:20210114T160507Z
LAST-MODIFIED:20210114T160507Z
UID:3301-1617321600-1617407999@vasseartaward.org.au
SUMMARY:Good Friday
DESCRIPTION:
URL:https://vasseartaward.org.au/calendar/good-friday/
END:VEVENT
END:VCALENDAR