BEGIN:VCALENDAR
VERSION:2.0
PRODID:-//Vasse Art Award - ECPv5.4.0//NONSGML v1.0//EN
CALSCALE:GREGORIAN
METHOD:PUBLISH
X-WR-CALNAME:Vasse Art Award
X-ORIGINAL-URL:https://vasseartaward.org.au
X-WR-CALDESC:Events for Vasse Art Award
BEGIN:VTIMEZONE
TZID:Australia/Perth
BEGIN:STANDARD
TZOFFSETFROM:+0800
TZOFFSETTO:+0800
TZNAME:AWST
DTSTART:20210101T000000
END:STANDARD
END:VTIMEZONE
BEGIN:VEVENT
DTSTART;TZID=Australia/Perth:20210403T100000
DTEND;TZID=Australia/Perth:20210403T160000
DTSTAMP:20210226T032821
CREATED:20210114T123458Z
LAST-MODIFIED:20210114T153841Z
UID:1366-1617444000-1617465600@vasseartaward.org.au
SUMMARY:Art Exhibition & Sale Open Day
DESCRIPTION:Calling all local and visiting art lovers to view and purchase artworks direct from the Vasse Primary School. Come along and see 2021Award Winners; Bid on an original 10×10 in our Silent Auction; Vote for People’s choice and Raffle tickets for sale. \nAll funds raised since the VAA’s inception in 2004 have helped the school to develop its middle school playground\, provide smart boards in classrooms\, install a roof between demountable classrooms\, and to refurbish the school canteen. \nPlease follow the signs to the exhibition hall (undercover area). \nBrowse our online art catalogue for more information.
URL:https://vasseartaward.org.au/calendar/exhibition-opening/
CATEGORIES:Art Exhibition
ATTACH;FMTTYPE=image/jpeg:https://vasseartaward.org.au/wp-content/uploads/2021/01/2018-VAA-Exhibit-DSC_8035.jpg
ORGANIZER;CN="VAA%20committee":MAILTO:vasse.artaward@gmail.com
END:VEVENT
BEGIN:VEVENT
DTSTART;TZID=Australia/Perth:20210403T180000
DTEND;TZID=Australia/Perth:20210403T210000
DTSTAMP:20210226T032821
CREATED:20210114T155127Z
LAST-MODIFIED:20210114T155127Z
UID:3289-1617472800-1617483600@vasseartaward.org.au
SUMMARY:AWARD WINNERS PRESENTATION
DESCRIPTION:Opening Night – by invitation only.\nComplimentary Drinks & Canapés\n18+ Event \n 
URL:https://vasseartaward.org.au/calendar/award-winners-presentation/
CATEGORIES:Art Exhibition
ATTACH;FMTTYPE=image/jpeg:https://vasseartaward.org.au/wp-content/uploads/2021/01/2018-VIP-Opening-DSC_7997.jpg
END:VEVENT
END:VCALENDAR